BEGIN:VCALENDAR
METHOD:PUBLISH
PRODID:Data::ICal 0.13
VERSION:2.0
BEGIN:VEVENT
DESCRIPTION:&nbsp; 



If you’re Gen Z tell your Parents or Grandparents the NEW W Lounge is located at 1608 Belmont Ave. in Woodland. It is the place to be where the baby boomers and millennials dress to impress. Doors open at 6 PM https://www.thewlounge.com/ 


 
Source: W Lounge
DTSTAMP:20260424T170203Z
DTSTART;TZID=America/New_York:20260207T071700
DTEND;TZID=America/New_York:20260228T071700
LOCATION:1806 Belmont Ave\, Woodlawn\, MD
SUMMARY:The W Lounge in Woodland
UID:5380426-1770448620-1772263020
END:VEVENT
END:VCALENDAR
